BEGIN:VCALENDAR
VERSION:2.0
PRODID:-//Jazzbah (Port de Ciutadella) - ECPv6.15.20//NONSGML v1.0//EN
CALSCALE:GREGORIAN
METHOD:PUBLISH
X-ORIGINAL-URL:https://jazzbah.es
X-WR-CALDESC:Esdeveniments per Jazzbah (Port de Ciutadella)
REFRESH-INTERVAL;VALUE=DURATION:PT1H
X-Robots-Tag:noindex
X-PUBLISHED-TTL:PT1H
BEGIN:VTIMEZONE
TZID:Europe/Paris
BEGIN:DAYLIGHT
TZOFFSETFROM:+0100
TZOFFSETTO:+0200
TZNAME:CEST
DTSTART:20220327T010000
END:DAYLIGHT
BEGIN:STANDARD
TZOFFSETFROM:+0200
TZOFFSETTO:+0100
TZNAME:CET
DTSTART:20221030T010000
END:STANDARD
BEGIN:DAYLIGHT
TZOFFSETFROM:+0100
TZOFFSETTO:+0200
TZNAME:CEST
DTSTART:20230326T010000
END:DAYLIGHT
BEGIN:STANDARD
TZOFFSETFROM:+0200
TZOFFSETTO:+0100
TZNAME:CET
DTSTART:20231029T010000
END:STANDARD
BEGIN:DAYLIGHT
TZOFFSETFROM:+0100
TZOFFSETTO:+0200
TZNAME:CEST
DTSTART:20240331T010000
END:DAYLIGHT
BEGIN:STANDARD
TZOFFSETFROM:+0200
TZOFFSETTO:+0100
TZNAME:CET
DTSTART:20241027T010000
END:STANDARD
END:VTIMEZONE
BEGIN:VEVENT
DTSTART;TZID=Europe/Paris:20230803T213000
DTEND;TZID=Europe/Paris:20230803T213000
DTSTAMP:20260425T213102
CREATED:20230630T165536Z
LAST-MODIFIED:20230803T153543Z
UID:2065-1691098200-1691098200@jazzbah.es
SUMMARY:Casino Jazz Club amb "Our Five Band"
DESCRIPTION:CASINO JAZZ CLUB. El pròxim dijous 3 d’agost\, el Teatre del Casino s’omplirà de ball i música en directe. T’esperam! \nClasse Oberta!\nApren a ballar la música de Swing abans del concert de la OUR FIVE BAND. \nSi vols aprendre uns passos de swing abans del concert i posar-los en practica just després\, o simplement repassar passos que no t’enrecordes\, només cal que vinguis a la classe oberta al Teatre del Casino de Ciutadella aquest dijous a les 20:30 h. El concert començarà a les 21:30 h. \nEns ballem! \n…………………………… \n¡Clase abierta! \nAprende a bailar la música de Swing antes del concierto de la OUR FIVE BAND. \nSi quieres aprender unos pasos de swing antes del concierto y ponerlos en práctica justo después\, o simplemente repasar pasos que no recuerdas\, basta con que vengas a la clase abierta en el Teatro del Casino de Ciutadella este jueves a las 20:30 h. El concierto empezará a las 21:30 h. \nSalud y Swing! \nTAQUILLA INVERSA Ajuda’ns a fer-ho possible! Tu decideixes el preu a pagar de l’espectacle. Aportació voluntaria al sortir de la sala. \nTAQUILLA INVERSA. ¡Ayúdanos a hacerlo posible! Tú decides el precio a pagar del espectáculo. Aportación voluntaria al salir de la sala. \n20:30 h. Classe Oberta LINDY HOP \n21:30 h. Concert OUR FIVE BAND. \nUBICACIÓ: Teatre del Casino 17 de Gener. Avinguda Constitució\, 18 (Ciutadella de Menorca)
URL:https://jazzbah.es/event/casino-jazz-club-amb-our-five-band-5/
CATEGORIES:2023,Casino Jazz Club,Concerts,Destacats,Teatre Casino 17 de gener
ATTACH;FMTTYPE=image/jpeg:https://jazzbah.es/wp-content/uploads/2023/06/Slide-Jazzbah-9.jpg
END:VEVENT
BEGIN:VEVENT
DTSTART;TZID=Europe/Paris:20230810T213000
DTEND;TZID=Europe/Paris:20230810T213000
DTSTAMP:20260425T213102
CREATED:20230630T165658Z
LAST-MODIFIED:20230803T153822Z
UID:2067-1691703000-1691703000@jazzbah.es
SUMMARY:Casino Jazz Club amb "Our Five Band"
DESCRIPTION:CASINO JAZZ CLUB. El pròxim dijous 10 d’agost\, el Teatre del Casino s’omplirà de ball i música en directe. T’esperam! \nClasse Oberta!\nApren a ballar la música de Swing abans del concert de la OUR FIVE BAND. \nSi vols aprendre uns passos de swing abans del concert i posar-los en practica just després\, o simplement repassar passos que no t’enrecordes\, només cal que vinguis a la classe oberta al Teatre del Casino de Ciutadella aquest dijous a les 20:30 h. El concert començarà a les 21:30 h. \nEns ballem! \n…………………………… \n¡Clase abierta! \nAprende a bailar la música de Swing antes del concierto de la OUR FIVE BAND. \nSi quieres aprender unos pasos de swing antes del concierto y ponerlos en práctica justo después\, o simplemente repasar pasos que no recuerdas\, basta con que vengas a la clase abierta en el Teatro del Casino de Ciutadella este jueves a las 20:30 h. El concierto empezará a las 21:30 h. \nSalud y Swing! \nTAQUILLA INVERSA Ajuda’ns a fer-ho possible! Tu decideixes el preu a pagar de l’espectacle. Aportació voluntaria al sortir de la sala. \nTAQUILLA INVERSA. ¡Ayúdanos a hacerlo posible! Tú decides el precio a pagar del espectáculo. Aportación voluntaria al salir de la sala. \n20:30 h. Classe Oberta LINDY HOP \n21:30 h. Concert OUR FIVE BAND. \nUBICACIÓ: Teatre del Casino 17 de Gener. Avinguda Constitució\, 18 (Ciutadella de Menorca)
URL:https://jazzbah.es/event/casino-jazz-club-amb-our-five-band-6/
CATEGORIES:2023,Casino Jazz Club,Concerts,Destacats,Teatre Casino 17 de gener
ATTACH;FMTTYPE=image/jpeg:https://jazzbah.es/wp-content/uploads/2023/06/Slide-Jazzbah-9.jpg
END:VEVENT
BEGIN:VEVENT
DTSTART;TZID=Europe/Paris:20230817T213000
DTEND;TZID=Europe/Paris:20230817T213000
DTSTAMP:20260425T213102
CREATED:20230630T165756Z
LAST-MODIFIED:20230803T153919Z
UID:2069-1692307800-1692307800@jazzbah.es
SUMMARY:Casino Jazz Club amb "Our Five Band"
DESCRIPTION:CASINO JAZZ CLUB. El pròxim dijous 17 d’agost\, el Teatre del Casino s’omplirà de ball i música en directe. T’esperam! \nClasse Oberta!\nApren a ballar la música de Swing abans del concert de la OUR FIVE BAND. \nSi vols aprendre uns passos de swing abans del concert i posar-los en practica just després\, o simplement repassar passos que no t’enrecordes\, només cal que vinguis a la classe oberta al Teatre del Casino de Ciutadella aquest dijous a les 20:30 h. El concert començarà a les 21:30 h. \nEns ballem! \n…………………………… \n¡Clase abierta! \nAprende a bailar la música de Swing antes del concierto de la OUR FIVE BAND. \nSi quieres aprender unos pasos de swing antes del concierto y ponerlos en práctica justo después\, o simplemente repasar pasos que no recuerdas\, basta con que vengas a la clase abierta en el Teatro del Casino de Ciutadella este jueves a las 20:30 h. El concierto empezará a las 21:30 h. \nSalud y Swing! \nTAQUILLA INVERSA Ajuda’ns a fer-ho possible! Tu decideixes el preu a pagar de l’espectacle. Aportació voluntaria al sortir de la sala. \nTAQUILLA INVERSA. ¡Ayúdanos a hacerlo posible! Tú decides el precio a pagar del espectáculo. Aportación voluntaria al salir de la sala. \n20:30 h. Classe Oberta LINDY HOP \n21:30 h. Concert OUR FIVE BAND. \nUBICACIÓ: Teatre del Casino 17 de Gener. Avinguda Constitució\, 18 (Ciutadella de Menorca)
URL:https://jazzbah.es/event/casino-jazz-club-amb-our-five-band-7/
CATEGORIES:2023,Casino Jazz Club,Concerts,Destacats,Teatre Casino 17 de gener
ATTACH;FMTTYPE=image/jpeg:https://jazzbah.es/wp-content/uploads/2023/06/Slide-Jazzbah-9.jpg
END:VEVENT
BEGIN:VEVENT
DTSTART;TZID=Europe/Paris:20230824T213000
DTEND;TZID=Europe/Paris:20230824T213000
DTSTAMP:20260425T213102
CREATED:20230630T165903Z
LAST-MODIFIED:20230803T154000Z
UID:2071-1692912600-1692912600@jazzbah.es
SUMMARY:Casino Jazz Club amb "Our Five Band"
DESCRIPTION:CASINO JAZZ CLUB. El pròxim dijous 24 d’agost\, el Teatre del Casino s’omplirà de ball i música en directe. T’esperam! \nClasse Oberta!\nApren a ballar la música de Swing abans del concert de la OUR FIVE BAND. \nSi vols aprendre uns passos de swing abans del concert i posar-los en practica just després\, o simplement repassar passos que no t’enrecordes\, només cal que vinguis a la classe oberta al Teatre del Casino de Ciutadella aquest dijous a les 20:30 h. El concert començarà a les 21:30 h. \nEns ballem! \n…………………………… \n¡Clase abierta! \nAprende a bailar la música de Swing antes del concierto de la OUR FIVE BAND. \nSi quieres aprender unos pasos de swing antes del concierto y ponerlos en práctica justo después\, o simplemente repasar pasos que no recuerdas\, basta con que vengas a la clase abierta en el Teatro del Casino de Ciutadella este jueves a las 20:30 h. El concierto empezará a las 21:30 h. \nSalud y Swing! \nTAQUILLA INVERSA Ajuda’ns a fer-ho possible! Tu decideixes el preu a pagar de l’espectacle. Aportació voluntaria al sortir de la sala. \nTAQUILLA INVERSA. ¡Ayúdanos a hacerlo posible! Tú decides el precio a pagar del espectáculo. Aportación voluntaria al salir de la sala. \n20:30 h. Classe Oberta LINDY HOP \n21:30 h. Concert OUR FIVE BAND. \nUBICACIÓ: Teatre del Casino 17 de Gener. Avinguda Constitució\, 18 (Ciutadella de Menorca)
URL:https://jazzbah.es/event/casino-jazz-club-amb-our-five-band-8/
CATEGORIES:2023,Casino Jazz Club,Concerts,Destacats,Teatre Casino 17 de gener
ATTACH;FMTTYPE=image/jpeg:https://jazzbah.es/wp-content/uploads/2023/06/Slide-Jazzbah-9.jpg
END:VEVENT
BEGIN:VEVENT
DTSTART;TZID=Europe/Paris:20230831T213000
DTEND;TZID=Europe/Paris:20230831T213000
DTSTAMP:20260425T213102
CREATED:20230630T165946Z
LAST-MODIFIED:20230803T154058Z
UID:2073-1693517400-1693517400@jazzbah.es
SUMMARY:Casino Jazz Club amb "Our Five Band"
DESCRIPTION:CASINO JAZZ CLUB. El pròxim dijous 31 d’agost\, el Teatre del Casino s’omplirà de ball i música en directe. T’esperam! \nClasse Oberta!\nApren a ballar la música de Swing abans del concert de la OUR FIVE BAND. \nSi vols aprendre uns passos de swing abans del concert i posar-los en practica just després\, o simplement repassar passos que no t’enrecordes\, només cal que vinguis a la classe oberta al Teatre del Casino de Ciutadella aquest dijous a les 20:30 h. El concert començarà a les 21:30 h. \nEns ballem! \n…………………………… \n¡Clase abierta! \nAprende a bailar la música de Swing antes del concierto de la OUR FIVE BAND. \nSi quieres aprender unos pasos de swing antes del concierto y ponerlos en práctica justo después\, o simplemente repasar pasos que no recuerdas\, basta con que vengas a la clase abierta en el Teatro del Casino de Ciutadella este jueves a las 20:30 h. El concierto empezará a las 21:30 h. \nSalud y Swing! \nTAQUILLA INVERSA Ajuda’ns a fer-ho possible! Tu decideixes el preu a pagar de l’espectacle. Aportació voluntaria al sortir de la sala. \nTAQUILLA INVERSA. ¡Ayúdanos a hacerlo posible! Tú decides el precio a pagar del espectáculo. Aportación voluntaria al salir de la sala. \n20:30 h. Classe Oberta LINDY HOP \n21:30 h. Concert OUR FIVE BAND. \nUBICACIÓ: Teatre del Casino 17 de Gener. Avinguda Constitució\, 18 (Ciutadella de Menorca)
URL:https://jazzbah.es/event/casino-jazz-club-amb-our-five-band-9/
CATEGORIES:2023,Casino Jazz Club,Concerts,Destacats,Teatre Casino 17 de gener
ATTACH;FMTTYPE=image/jpeg:https://jazzbah.es/wp-content/uploads/2023/06/Slide-Jazzbah-9.jpg
END:VEVENT
END:VCALENDAR