BEGIN:VCALENDAR
VERSION:2.0
PRODID:-//Jazzbah (Port de Ciutadella) - ECPv6.15.20//NONSGML v1.0//EN
CALSCALE:GREGORIAN
METHOD:PUBLISH
X-WR-CALNAME:Jazzbah (Port de Ciutadella)
X-ORIGINAL-URL:https://jazzbah.es
X-WR-CALDESC:Esdeveniments per Jazzbah (Port de Ciutadella)
REFRESH-INTERVAL;VALUE=DURATION:PT1H
X-Robots-Tag:noindex
X-PUBLISHED-TTL:PT1H
BEGIN:VTIMEZONE
TZID:Europe/Paris
BEGIN:DAYLIGHT
TZOFFSETFROM:+0100
TZOFFSETTO:+0200
TZNAME:CEST
DTSTART:20240331T010000
END:DAYLIGHT
BEGIN:STANDARD
TZOFFSETFROM:+0200
TZOFFSETTO:+0100
TZNAME:CET
DTSTART:20241027T010000
END:STANDARD
BEGIN:DAYLIGHT
TZOFFSETFROM:+0100
TZOFFSETTO:+0200
TZNAME:CEST
DTSTART:20250330T010000
END:DAYLIGHT
BEGIN:STANDARD
TZOFFSETFROM:+0200
TZOFFSETTO:+0100
TZNAME:CET
DTSTART:20251026T010000
END:STANDARD
BEGIN:DAYLIGHT
TZOFFSETFROM:+0100
TZOFFSETTO:+0200
TZNAME:CEST
DTSTART:20260329T010000
END:DAYLIGHT
BEGIN:STANDARD
TZOFFSETFROM:+0200
TZOFFSETTO:+0100
TZNAME:CET
DTSTART:20261025T010000
END:STANDARD
END:VTIMEZONE
BEGIN:VEVENT
DTSTART;TZID=Europe/Paris:20250913T235500
DTEND;TZID=Europe/Paris:20250913T235500
DTSTAMP:20260421T193111
CREATED:20250516T143759Z
LAST-MODIFIED:20250905T193049Z
UID:3352-1757807700-1757807700@jazzbah.es
SUMMARY:Closing Bah! Skryption
DESCRIPTION:Llega el closing de BAH! con un dj que ya lo reventó el año pasado\, desde BLACKWORKS llega la bestia argentina SKRYPTION. Sin duda uno de los djs hard mas queridos por todos\, con unos shows que lo han hecho ser uno de los referentes en los sonidos mas contundentes. \nPreparate para el closing de los closings! La ultima fiesta de este 2025. \nEntradas:\nhttps://entradas.codetickets.com/entradas/los-santos-presentan-bah-with-fumi-km240-t-jazzbah-/73418/lossantos/online
URL:https://jazzbah.es/event/bah-closing/
CATEGORIES:2025,Bah!,Concerts,Destacats,Dj,Jazzbah
ATTACH;FMTTYPE=image/jpeg:https://jazzbah.es/wp-content/uploads/2025/05/Slide-Jazzbah-10.jpg
END:VEVENT
END:VCALENDAR