BEGIN:VCALENDAR
VERSION:2.0
PRODID:-//Jazzbah (Port de Ciutadella) - ECPv6.15.20//NONSGML v1.0//EN
CALSCALE:GREGORIAN
METHOD:PUBLISH
X-ORIGINAL-URL:https://jazzbah.es
X-WR-CALDESC:Esdeveniments per Jazzbah (Port de Ciutadella)
REFRESH-INTERVAL;VALUE=DURATION:PT1H
X-Robots-Tag:noindex
X-PUBLISHED-TTL:PT1H
BEGIN:VTIMEZONE
TZID:Europe/Paris
BEGIN:DAYLIGHT
TZOFFSETFROM:+0100
TZOFFSETTO:+0200
TZNAME:CEST
DTSTART:20240331T010000
END:DAYLIGHT
BEGIN:STANDARD
TZOFFSETFROM:+0200
TZOFFSETTO:+0100
TZNAME:CET
DTSTART:20241027T010000
END:STANDARD
BEGIN:DAYLIGHT
TZOFFSETFROM:+0100
TZOFFSETTO:+0200
TZNAME:CEST
DTSTART:20250330T010000
END:DAYLIGHT
BEGIN:STANDARD
TZOFFSETFROM:+0200
TZOFFSETTO:+0100
TZNAME:CET
DTSTART:20251026T010000
END:STANDARD
BEGIN:DAYLIGHT
TZOFFSETFROM:+0100
TZOFFSETTO:+0200
TZNAME:CEST
DTSTART:20260329T010000
END:DAYLIGHT
BEGIN:STANDARD
TZOFFSETFROM:+0200
TZOFFSETTO:+0100
TZNAME:CET
DTSTART:20261025T010000
END:STANDARD
END:VTIMEZONE
BEGIN:VEVENT
DTSTART;TZID=Europe/Paris:20250806T235900
DTEND;TZID=Europe/Paris:20250806T235900
DTSTAMP:20260421T213736
CREATED:20250516T142555Z
LAST-MODIFIED:20250721T154715Z
UID:3336-1754524740-1754524740@jazzbah.es
SUMMARY:BAH! VIVIANA CASANOVA
DESCRIPTION:Recibimos a una de las djs mas queridas en la isla: Viviana Casanova\, que vuelve a la que es ya casi su residencia anual con esas sesiones cargadas de energía y buen rollo que la caracterizan. Una de las fechas mas señaladas de nuestro calendario donde llevamos dos años haciendo soldout. \nPara acompañar esta noche estaran los residentes BYONE\, NIC RIVIERA y BOJAK\, y desde Girona\, como Viviana\, un dj menorquin\, Lluis Huguet aka CANVI. \nNo te quedes sin tu entrada. \nEntrades anticipades https://entradas.codetickets.com/entradas/los-santos-presentan-bah—viviana-casanova—t-jazzbah-/72483/lossantos/online
URL:https://jazzbah.es/event/bah-electronic-sessions-2/
CATEGORIES:2025,Bah!,Concerts,Destacats,Dj,Jazzbah
ATTACH;FMTTYPE=image/jpeg:https://jazzbah.es/wp-content/uploads/2025/05/Slide-Jazzbah-Viviava-1.jpg
END:VEVENT
BEGIN:VEVENT
DTSTART;TZID=Europe/Paris:20250814T235900
DTEND;TZID=Europe/Paris:20250814T235900
DTSTAMP:20260421T213736
CREATED:20250516T143225Z
LAST-MODIFIED:20250808T181904Z
UID:3344-1755215940-1755215940@jazzbah.es
SUMMARY:BAH! BASTIAN BUX
DESCRIPTION:El dijous 14 d’agost\, vigília de festiu\, rebem a Bastian Bux\, un dels residents habituals del Row\, que amb els seus sets plens d’alegria i energia visita per primera vegada l’illa\, després de triomfar amb les seves sessions a UNVRS.\n\nCom sempre\, no hi faltaran els residents de BAH!\, i aquesta vegada amb Legong obrint la nit.\n\nEntrades anticipades:\nhttps://entradas.codetickets.com/entradas/los-santos-presentan-bah—basitan-bux–elrowmusic—-t-jaz/73076/lossantos/online?fbclid=PAQ0xDSwMDEqVleHRuA2FlbQIxMQABp6qq26qs8OOfh2dO91cxhLC3Rcj8xoa66jJ7xBWAJvxUyg40mpIcd3PUqERS_aem_f7Vatu-4DVUYg1GD5oJf4w
URL:https://jazzbah.es/event/bah-electronic-sessions-3/
CATEGORIES:2025,Bah!,Concerts,Destacats,Dj,Jazzbah
ATTACH;FMTTYPE=image/jpeg:https://jazzbah.es/wp-content/uploads/2025/05/bah-14-agost.jpeg
END:VEVENT
BEGIN:VEVENT
DTSTART;TZID=Europe/Paris:20250827T235900
DTEND;TZID=Europe/Paris:20250827T235900
DTSTAMP:20260421T213736
CREATED:20250516T143444Z
LAST-MODIFIED:20250816T071430Z
UID:3347-1756339140-1756339140@jazzbah.es
SUMMARY:BAH! ANDRÉS CAMPO
DESCRIPTION:Dimecres 27 d’agost\, el reconegut DJ Andrés Campo torna al Jazzbah Ciutadella\, la seva casa anual i cita estiuenca imprescindible de les sessions Bah!. Amb una trajectòria consolidada en l’escena techno nacional i internacional\, Campo és resident de la mítica Florida 135 i habitual de les festes elrow\, destacant pel seu estil versàtil i energètic que ha conquerit escenaris com Dreambeach 2025 a Almeria i l’icònic Sónar 2025 a Barcelona. \n\n\nEntrada única – fins a completar aforament.\nhttps://entradas.codetickets.com/entradas/los-santos-presentan-bah—andres-campo—t-jazzbah-/73154/lossantos/online \n\n\n\n——————————————————————————————————————————————————————- \n\n\n\nMiércoles 27 de agosto\, el reconocido DJ Andrés Campo vuelve a Jazzbah Ciutadella\, su casa anual y cita veraniega imprescindible en las sesiones Bah!. Con una trayectoria consolidada en la escena techno nacional e internacional\, Campo es residente de la mítica Florida 135 y habitual en las fiestas elrow\, destacando por su estilo versátil y enérgico que ha conquistado escenarios como Dreambeach 2025 en Almería y el icónico Sónar 2025 en Barcelona. \n\n\nEntrada única – hasta completar aforo.\nhttps://entradas.codetickets.com/entradas/los-santos-presentan-bah—andres-campo—t-jazzbah-/73154/lossantos/online
URL:https://jazzbah.es/event/bah-electronic-sessions-4/
CATEGORIES:2025,Bah!,Concerts,Destacats,Jazzbah
ATTACH;FMTTYPE=image/jpeg:https://jazzbah.es/wp-content/uploads/2025/05/andres-campo.jpeg
END:VEVENT
END:VCALENDAR