BEGIN:VCALENDAR
VERSION:2.0
PRODID:-//Jazzbah (Port de Ciutadella) - ECPv6.15.20//NONSGML v1.0//EN
CALSCALE:GREGORIAN
METHOD:PUBLISH
X-WR-CALNAME:Jazzbah (Port de Ciutadella)
X-ORIGINAL-URL:https://jazzbah.es
X-WR-CALDESC:Esdeveniments per Jazzbah (Port de Ciutadella)
REFRESH-INTERVAL;VALUE=DURATION:PT1H
X-Robots-Tag:noindex
X-PUBLISHED-TTL:PT1H
BEGIN:VTIMEZONE
TZID:Europe/Paris
BEGIN:DAYLIGHT
TZOFFSETFROM:+0100
TZOFFSETTO:+0200
TZNAME:CEST
DTSTART:20240331T010000
END:DAYLIGHT
BEGIN:STANDARD
TZOFFSETFROM:+0200
TZOFFSETTO:+0100
TZNAME:CET
DTSTART:20241027T010000
END:STANDARD
BEGIN:DAYLIGHT
TZOFFSETFROM:+0100
TZOFFSETTO:+0200
TZNAME:CEST
DTSTART:20250330T010000
END:DAYLIGHT
BEGIN:STANDARD
TZOFFSETFROM:+0200
TZOFFSETTO:+0100
TZNAME:CET
DTSTART:20251026T010000
END:STANDARD
BEGIN:DAYLIGHT
TZOFFSETFROM:+0100
TZOFFSETTO:+0200
TZNAME:CEST
DTSTART:20260329T010000
END:DAYLIGHT
BEGIN:STANDARD
TZOFFSETFROM:+0200
TZOFFSETTO:+0100
TZNAME:CET
DTSTART:20261025T010000
END:STANDARD
END:VTIMEZONE
BEGIN:VEVENT
DTSTART;TZID=Europe/Paris:20250711T235900
DTEND;TZID=Europe/Paris:20250711T235900
DTSTAMP:20260421T234858
CREATED:20250516T142022Z
LAST-MODIFIED:20250611T142311Z
UID:3318-1752278340-1752278340@jazzbah.es
SUMMARY:BAH! OSCAR L
DESCRIPTION:Divendres 11 de juliol rebem a la nostra cabina un dels DJs i productors més potents de l’escena electrònica estatal: OSCAR L (Drumcode / Truesoul)\, referent dels segells d’Adam Beyer. Amb una trajectòria imparable\, ha trepitjat escenaris tan llegendaris com Tomorrowland\, BPM Festival o Dreambeach\, i ha col·laborat amb artistes de primer nivell com Tiësto\, Max Styler o Metodi Hristov. Una nit de techno amb majúscules que promet ser memorable.\n\n————————————————————————————————————————————————————\n\nViernes 11 de julio recibimos en cabina a uno de los DJs y productores más potentes de la escena electrónica nacional: OSCAR L (Drumcode / Truesoul)\, figura clave en los sellos de Adam Beyer. Con una trayectoria imparable\, ha pasado por escenarios legendarios como Tomorrowland\, BPM Festival o Dreambeach\, y ha colaborado con artistas de primer nivel como Tiësto\, Max Styler o Metodi Hristov. Una noche de techno con mayúsculas que promete ser inolvidable.\n\n\n\nAnticipada: 15€ (+dg)\nhttps://entradas.codetickets.com/entradas/los-santos-presentan-bah—oscar-l—t-jazzbah-/69857/lossantos/online
URL:https://jazzbah.es/event/bah-electronic-sessions/
CATEGORIES:2025,Bah!,Concerts,Destacats,Dj,Jazzbah
ATTACH;FMTTYPE=image/jpeg:https://jazzbah.es/wp-content/uploads/2025/05/slide-BAH-OSCAR-L.jpeg
END:VEVENT
END:VCALENDAR