BEGIN:VCALENDAR
VERSION:2.0
PRODID:-//Jazzbah (Port de Ciutadella) - ECPv6.15.20//NONSGML v1.0//EN
CALSCALE:GREGORIAN
METHOD:PUBLISH
X-WR-CALNAME:Jazzbah (Port de Ciutadella)
X-ORIGINAL-URL:https://jazzbah.es
X-WR-CALDESC:Esdeveniments per Jazzbah (Port de Ciutadella)
REFRESH-INTERVAL;VALUE=DURATION:PT1H
X-Robots-Tag:noindex
X-PUBLISHED-TTL:PT1H
BEGIN:VTIMEZONE
TZID:Europe/Paris
BEGIN:DAYLIGHT
TZOFFSETFROM:+0100
TZOFFSETTO:+0200
TZNAME:CEST
DTSTART:20230326T010000
END:DAYLIGHT
BEGIN:STANDARD
TZOFFSETFROM:+0200
TZOFFSETTO:+0100
TZNAME:CET
DTSTART:20231029T010000
END:STANDARD
BEGIN:DAYLIGHT
TZOFFSETFROM:+0100
TZOFFSETTO:+0200
TZNAME:CEST
DTSTART:20240331T010000
END:DAYLIGHT
BEGIN:STANDARD
TZOFFSETFROM:+0200
TZOFFSETTO:+0100
TZNAME:CET
DTSTART:20241027T010000
END:STANDARD
BEGIN:DAYLIGHT
TZOFFSETFROM:+0100
TZOFFSETTO:+0200
TZNAME:CEST
DTSTART:20250330T010000
END:DAYLIGHT
BEGIN:STANDARD
TZOFFSETFROM:+0200
TZOFFSETTO:+0100
TZNAME:CET
DTSTART:20251026T010000
END:STANDARD
END:VTIMEZONE
BEGIN:VEVENT
DTSTART;TZID=Europe/Paris:20240928T233000
DTEND;TZID=Europe/Paris:20240928T233000
DTSTAMP:20260424T152253
CREATED:20240904T100944Z
LAST-MODIFIED:20240908T104010Z
UID:3000-1727566200-1727566200@jazzbah.es
SUMMARY:BAH! OutSeason! Viviana Casanova
DESCRIPTION:Viviana no necesita mucha presentación en la isla\, es una de las artistas que mas huella han dejado en nuestro público en estos 5 años de Bah!. Tech house contundente y el techno mas elegante y enérgico se dan cita el próximo sábado 28 de septiembre en la ultima cita\, esta vez si\, de nuestra fiesta de electrónica en Jazzbah. \nEntradas anticipadas\nhttps://entradas.codetickets.com/entradas/los-santos-presentan-bah–outseason–viviana-casanova–t-jaz/59731/lossantos/online
URL:https://jazzbah.es/event/bah-outseason-viviana-casanova/
CATEGORIES:2024,25è Aniversari,Bah!,Concerts,Destacats,Dj,Jazzbah
ATTACH;FMTTYPE=image/jpeg:https://jazzbah.es/wp-content/uploads/2024/09/Slide-Jazzbah.jpg
END:VEVENT
END:VCALENDAR