BEGIN:VCALENDAR
VERSION:2.0
PRODID:-//Jazzbah (Port de Ciutadella) - ECPv6.15.20//NONSGML v1.0//EN
CALSCALE:GREGORIAN
METHOD:PUBLISH
X-ORIGINAL-URL:https://jazzbah.es
X-WR-CALDESC:Esdeveniments per Jazzbah (Port de Ciutadella)
REFRESH-INTERVAL;VALUE=DURATION:PT1H
X-Robots-Tag:noindex
X-PUBLISHED-TTL:PT1H
BEGIN:VTIMEZONE
TZID:Europe/Paris
BEGIN:DAYLIGHT
TZOFFSETFROM:+0100
TZOFFSETTO:+0200
TZNAME:CEST
DTSTART:20230326T010000
END:DAYLIGHT
BEGIN:STANDARD
TZOFFSETFROM:+0200
TZOFFSETTO:+0100
TZNAME:CET
DTSTART:20231029T010000
END:STANDARD
BEGIN:DAYLIGHT
TZOFFSETFROM:+0100
TZOFFSETTO:+0200
TZNAME:CEST
DTSTART:20240331T010000
END:DAYLIGHT
BEGIN:STANDARD
TZOFFSETFROM:+0200
TZOFFSETTO:+0100
TZNAME:CET
DTSTART:20241027T010000
END:STANDARD
BEGIN:DAYLIGHT
TZOFFSETFROM:+0100
TZOFFSETTO:+0200
TZNAME:CEST
DTSTART:20250330T010000
END:DAYLIGHT
BEGIN:STANDARD
TZOFFSETFROM:+0200
TZOFFSETTO:+0100
TZNAME:CET
DTSTART:20251026T010000
END:STANDARD
END:VTIMEZONE
BEGIN:VEVENT
DTSTART;TZID=Europe/Paris:20240807T234500
DTEND;TZID=Europe/Paris:20240807T234500
DTSTAMP:20260424T170906
CREATED:20240727T063716Z
LAST-MODIFIED:20240727T063759Z
UID:2895-1723074300-1723074300@jazzbah.es
SUMMARY:Technasia
DESCRIPTION:El dj francés nos vuelve a visitar después de la legendaria sesión que hizo hace un par de años donde coincidió con una tormenta impresionante durante su set\, haciendo que Jazzbah se llenará como pocas veces se ha visto. \nEl mejor tech house se fundira con el techno mas selecto de la mano de Technasia. \nEntradas anticipadas con precio reducido ya disponibles!\nhttps://entradas.codetickets.com/entradas/los-santos-presentan-bah–technasia–t-jazzbah-/58984/lossantos/online
URL:https://jazzbah.es/event/technasia/
CATEGORIES:2024,25è Aniversari,Bah!,Concerts,Destacats,Dj,Jazzbah
ATTACH;FMTTYPE=image/jpeg:https://jazzbah.es/wp-content/uploads/2024/07/Slide-Jazzbah-8.jpg
END:VEVENT
BEGIN:VEVENT
DTSTART;TZID=Europe/Paris:20240814T234500
DTEND;TZID=Europe/Paris:20240814T234500
DTSTAMP:20260424T170906
CREATED:20240810T072537Z
LAST-MODIFIED:20240810T072537Z
UID:2951-1723679100-1723679100@jazzbah.es
SUMMARY:Bah! Coyu
DESCRIPTION:Por primera vez nos visita COYU\, artista catalán dueño del sello Suara. Una de las discográficas más representativas a nivel español y mas importantes de la escena electrónica. \nCon años de experiencia y una carrera que acumula actuaciones en todo el mundo\, Coyu se da a conocer por su estilo único basado en grooves y ritmos percusivos\, mezclados con vocales y melodías muy pegadizas. Estilo que ha ideo evolucionando hasta convertirse en uno de los artistas mas emblemáticos de la escena Hard Groove del país. \nNo os perdáis esta oportunidad de disfrutar de un artista de tal calibre en una noche de puro baile! \nEntradas anticipadas a precio reducido ya disponibles.\nhttps://entradas.codetickets.com/entradas/los-santos-presentan-bah–coyu–t-jazzbah-/59331/lossantos/online
URL:https://jazzbah.es/event/bah-coyu/
CATEGORIES:2024,25è Aniversari,Bah!,Concerts,Destacats,Dj,Jazzbah
ATTACH;FMTTYPE=image/jpeg:https://jazzbah.es/wp-content/uploads/2024/08/Slide-Jazzbah-3.jpg
END:VEVENT
BEGIN:VEVENT
DTSTART;TZID=Europe/Paris:20240828T234500
DTEND;TZID=Europe/Paris:20240828T234500
DTSTAMP:20260424T170906
CREATED:20240802T152310Z
LAST-MODIFIED:20240819T131701Z
UID:2932-1724888700-1724888700@jazzbah.es
SUMMARY:Bah! Nakadia
DESCRIPTION:Cierre de temporada con Nakadia una de las reinas del techno que ya en su debut con nosotros dejó una sesión brutal hace 2 años\, y que esta vez viene hacer el closing por todo lo alto. Tailandesa afincada en Berlin nos dejará patidifusos con technazo. Prepárate. \nEntradas anticipadas\nhttps://entradas.codetickets.com/entradas/los-santos-presenta–bah–closing–con-nakadia–t-jazzbah-/59438/lossantos/online
URL:https://jazzbah.es/event/bah-9/
CATEGORIES:2024,25è Aniversari,Bah!,Concerts,Destacats,Dj,Jazzbah
ATTACH;FMTTYPE=image/jpeg:https://jazzbah.es/wp-content/uploads/2024/08/Slide-Jazzbah-5.jpg
END:VEVENT
END:VCALENDAR