BEGIN:VCALENDAR
VERSION:2.0
PRODID:-//Jazzbah (Port de Ciutadella) - ECPv6.15.20//NONSGML v1.0//EN
CALSCALE:GREGORIAN
METHOD:PUBLISH
X-ORIGINAL-URL:https://jazzbah.es
X-WR-CALDESC:Esdeveniments per Jazzbah (Port de Ciutadella)
REFRESH-INTERVAL;VALUE=DURATION:PT1H
X-Robots-Tag:noindex
X-PUBLISHED-TTL:PT1H
BEGIN:VTIMEZONE
TZID:Europe/Paris
BEGIN:DAYLIGHT
TZOFFSETFROM:+0100
TZOFFSETTO:+0200
TZNAME:CEST
DTSTART:20230326T010000
END:DAYLIGHT
BEGIN:STANDARD
TZOFFSETFROM:+0200
TZOFFSETTO:+0100
TZNAME:CET
DTSTART:20231029T010000
END:STANDARD
BEGIN:DAYLIGHT
TZOFFSETFROM:+0100
TZOFFSETTO:+0200
TZNAME:CEST
DTSTART:20240331T010000
END:DAYLIGHT
BEGIN:STANDARD
TZOFFSETFROM:+0200
TZOFFSETTO:+0100
TZNAME:CET
DTSTART:20241027T010000
END:STANDARD
BEGIN:DAYLIGHT
TZOFFSETFROM:+0100
TZOFFSETTO:+0200
TZNAME:CEST
DTSTART:20250330T010000
END:DAYLIGHT
BEGIN:STANDARD
TZOFFSETFROM:+0200
TZOFFSETTO:+0100
TZNAME:CET
DTSTART:20251026T010000
END:STANDARD
END:VTIMEZONE
BEGIN:VEVENT
DTSTART;TZID=Europe/Paris:20240710T234500
DTEND;TZID=Europe/Paris:20240710T234500
DTSTAMP:20260424T185538
CREATED:20240617T183130Z
LAST-MODIFIED:20240617T183130Z
UID:2773-1720655100-1720655100@jazzbah.es
SUMMARY:BAH! Opening 'DE LA SWING'
DESCRIPTION:elRow es un fenómeno de masas por todo el mundo\, así que no podía faltar tener en Bah! a uno de sus míticos residentes desde hace mas de 10 años. Para el opening de la temporada de verano contaremos con DE LA SWING\, sin duda uno de los djs mas representativos de la exitosa marca. Groove con un tech house divertido y vacilón harán de esta noche un recuerdo con mucho flow. \nhttps://entradas.codetickets.com/entradas/los-santos-presentan-bah-opening-de-la-swing-t-jazzbah-/57437/lossantos/online
URL:https://jazzbah.es/event/bah-opening-de-la-swing/
CATEGORIES:2024,25è Aniversari,Bah!,Concerts,Destacats,Dj,Jazzbah
ATTACH;FMTTYPE=image/jpeg:https://jazzbah.es/wp-content/uploads/2024/06/Slide-Jazzbah-1.jpg
END:VEVENT
BEGIN:VEVENT
DTSTART;TZID=Europe/Paris:20240724T234500
DTEND;TZID=Europe/Paris:20240724T234500
DTSTAMP:20260424T185538
CREATED:20240716T134140Z
LAST-MODIFIED:20240716T134140Z
UID:2874-1721864700-1721864700@jazzbah.es
SUMMARY:BAH! Skryption
DESCRIPTION:Desde la factoría BLACKWORKS nos visita uno de sus referentes: SKRYPTION \nSin duda la mejor fiesta de hardtechno en la actualidad vuelve a visitarnos después del paso el año pasado de DEXPHASE \nEntradas anticipadas\nhttps://entradas.codetickets.com/entradas/los-santos-presentan-bah–skryption–blackworks—t-jazzbah-/58726/lossantos/online
URL:https://jazzbah.es/event/bah-skryption/
CATEGORIES:2024,25è Aniversari,Bah!,Concerts,Destacats,Dj,Jazzbah
ATTACH;FMTTYPE=image/jpeg:https://jazzbah.es/wp-content/uploads/2024/07/Slide-Jazzbah-4.jpg
END:VEVENT
END:VCALENDAR